BEGIN:VCALENDAR
VERSION:2.0
PRODID:-//ExpressionEngine Easy iCalendar plugin//NONSGML v2.0.1//EN
X-WR-TIMEZONE:America/Chicago
X-WR-CALNAME:Upcoming Auctions
BEGIN:VEVENT
UID:82850
DTSTAMP:20220708T125200
DTSTART:20220708T125200
DTEND:20220728T180000
SUMMARY:Estate Moving Auction - Farm Equipment\, Lawn Tractor\, Utilit
 y Tractor\, Tools & Household Items - Neenah\, WI
LOCATION:2309 E Shady Lane\, Neenah\, WI 54956\, US
DESCRIPTION:10% Buyer’s Fee\; OPEN HOUSE: Tuesday\, July 26th (10:00am-5
 :00pm)\; PICK UP: By appointment on Monday\, August 1st (9:00a
 m-4:00pm). Heavy Equipment Loading Will Be Available.
URL:https://www.hansenauctiongroup.com/auctions/detail/bw82850
SEQUENCE:1
END:VEVENT
END:VCALENDAR