BEGIN:VCALENDAR
VERSION:2.0
PRODID:-//ExpressionEngine Easy iCalendar plugin//NONSGML v2.0.1//EN
X-WR-TIMEZONE:America/Chicago
X-WR-CALNAME:Upcoming Auctions
BEGIN:VEVENT
UID:92572
DTSTAMP:20221207T125500
DTSTART:20221207T125500
DTEND:20221220T180000
SUMMARY:Estate of Steve Smith - Trucks\, Trailers & Related Equipment
  - Lake Mills\, WI
LOCATION:7325 Manske Road\, Lake Mills\, WI 53551\, US
DESCRIPTION:10% Buyer’s Fee\; OPEN HOUSE: Monday\, December 19th (10:00a
 m-2:00pm)\; PICK UP: By appointment on Tuesday\, December 27th
  (10:00am-3:00pm). Heavy Equipment Loading Will Be Available
 .
URL:https://www.hansenauctiongroup.com/auctions/detail/bw92572
SEQUENCE:1
END:VEVENT
END:VCALENDAR