BEGIN:VCALENDAR
VERSION:2.0
PRODID:-//ExpressionEngine Easy iCalendar plugin//NONSGML v2.0.0//EN
X-WR-TIMEZONE:America/Chicago
X-WR-CALNAME:Upcoming Auctions
BEGIN:VEVENT
UID:99295
DTSTAMP:20230508T160000
DTSTART:20230508T160000
DTEND:20230523T180000
SUMMARY:Woodworking Shop Items - Stevens Point\, WI
LOCATION:3031 Michigan Avenue\, Stevens Point\, WI 54481\, US
DESCRIPTION:10% Buyer’s Fee\; OPEN HOUSE: Friday\, May 19th (9:00am-2:30
 pm)\; PICK UP: By appointment on Thursday\, May 25th (9:00am-3
 :30pm)
URL:https://www.hansenauctiongroup.com/auctions/detail/bw99295
SEQUENCE:1
END:VEVENT
END:VCALENDAR